BEGIN:VCALENDAR
VERSION:2.0
PRODID:-//CEPPA - ECPv6.15.17.1//NONSGML v1.0//EN
CALSCALE:GREGORIAN
METHOD:PUBLISH
X-WR-CALNAME:CEPPA
X-ORIGINAL-URL:https://ceppa.wp.st-andrews.ac.uk
X-WR-CALDESC:Events for CEPPA
REFRESH-INTERVAL;VALUE=DURATION:PT1H
X-Robots-Tag:noindex
X-PUBLISHED-TTL:PT1H
BEGIN:VTIMEZONE
TZID:Europe/London
BEGIN:DAYLIGHT
TZOFFSETFROM:+0000
TZOFFSETTO:+0100
TZNAME:BST
DTSTART:20190331T010000
END:DAYLIGHT
BEGIN:STANDARD
TZOFFSETFROM:+0100
TZOFFSETTO:+0000
TZNAME:GMT
DTSTART:20191027T010000
END:STANDARD
BEGIN:DAYLIGHT
TZOFFSETFROM:+0000
TZOFFSETTO:+0100
TZNAME:BST
DTSTART:20200329T010000
END:DAYLIGHT
BEGIN:STANDARD
TZOFFSETFROM:+0100
TZOFFSETTO:+0000
TZNAME:GMT
DTSTART:20201025T010000
END:STANDARD
BEGIN:DAYLIGHT
TZOFFSETFROM:+0000
TZOFFSETTO:+0100
TZNAME:BST
DTSTART:20210328T010000
END:DAYLIGHT
BEGIN:STANDARD
TZOFFSETFROM:+0100
TZOFFSETTO:+0000
TZNAME:GMT
DTSTART:20211031T010000
END:STANDARD
END:VTIMEZONE
BEGIN:VEVENT
DTSTART;TZID=Europe/London:20200930T130000
DTEND;TZID=Europe/London:20200930T140000
DTSTAMP:20260424T232414
CREATED:20200709T165128Z
LAST-MODIFIED:20201105T085334Z
UID:10000278-1601470800-1601474400@ceppa.wp.st-andrews.ac.uk
SUMMARY:Moral Philosophy Reading Group
DESCRIPTION:
URL:https://ceppa.wp.st-andrews.ac.uk/event/moral-philosophy-reading-group-2-2020-09-23/2020-09-30/
ORGANIZER;CN="Ben Sachs":MAILTO:bas7@st-andrews.ac.uk
END:VEVENT
BEGIN:VEVENT
DTSTART;TZID=Europe/London:20200923T130000
DTEND;TZID=Europe/London:20200923T140000
DTSTAMP:20260424T232414
CREATED:20200709T165128Z
LAST-MODIFIED:20201105T085334Z
UID:10000277-1600866000-1600869600@ceppa.wp.st-andrews.ac.uk
SUMMARY:Moral Philosophy Reading Group
DESCRIPTION:
URL:https://ceppa.wp.st-andrews.ac.uk/event/moral-philosophy-reading-group-2-2020-09-23/2020-09-23/
ORGANIZER;CN="Ben Sachs":MAILTO:bas7@st-andrews.ac.uk
END:VEVENT
BEGIN:VEVENT
DTSTART;TZID=Europe/London:20200917T160000
DTEND;TZID=Europe/London:20200917T173000
DTSTAMP:20260424T232414
CREATED:20200709T164951Z
LAST-MODIFIED:20200715T093322Z
UID:10000249-1600358400-1600363800@ceppa.wp.st-andrews.ac.uk
SUMMARY:CEPPA Talk - Tom Parr (Warwick)
DESCRIPTION:
URL:https://ceppa.wp.st-andrews.ac.uk/event/ceppa-talk/
CATEGORIES:CEPPA Talk
ORGANIZER;CN="Ben Sachs":MAILTO:bas7@st-andrews.ac.uk
END:VEVENT
BEGIN:VEVENT
DTSTART;TZID=Europe/London:20200916T130000
DTEND;TZID=Europe/London:20200916T140000
DTSTAMP:20260424T232414
CREATED:20200709T165128Z
LAST-MODIFIED:20200822T181547Z
UID:10000250-1600261200-1600264800@ceppa.wp.st-andrews.ac.uk
SUMMARY:Moral Philosophy Reading Group
DESCRIPTION:
URL:https://ceppa.wp.st-andrews.ac.uk/event/moral-philosophy-reading-group-2/
ORGANIZER;CN="Ben Sachs":MAILTO:bas7@st-andrews.ac.uk
END:VEVENT
BEGIN:VEVENT
DTSTART;TZID=Europe/London:20200610T140000
DTEND;TZID=Europe/London:20200610T150000
DTSTAMP:20260424T232414
CREATED:20200601T121424Z
LAST-MODIFIED:20200609T171958Z
UID:10000248-1591797600-1591801200@ceppa.wp.st-andrews.ac.uk
SUMMARY:Knox Seminar 2020 -- 10 June\, 2 p.m.
DESCRIPTION:Professor John Haldane answers your questions in a more intimate\, in-depth discussion of the themes from his 2020 Knox Lecture. \nTo take park in this hour-long discussion\, click here to join the Zoom videoconference.
URL:https://ceppa.wp.st-andrews.ac.uk/event/knox-seminar-2020-10-june-2-p-m/
LOCATION:Zoom
ORGANIZER;CN="Ben Sachs":MAILTO:bas7@st-andrews.ac.uk
END:VEVENT
BEGIN:VEVENT
DTSTART;TZID=Europe/London:20200609T160000
DTEND;TZID=Europe/London:20200609T190000
DTSTAMP:20260424T232414
CREATED:20200211T145958Z
LAST-MODIFIED:20200522T103118Z
UID:10000223-1591718400-1591729200@ceppa.wp.st-andrews.ac.uk
SUMMARY:John Stuart Mill Cup 2020 - Cancelled
DESCRIPTION:Visit the Mill Cup website for full information.
URL:https://ceppa.wp.st-andrews.ac.uk/event/john-stuart-mill-cup-2020/
ATTACH;FMTTYPE=image/jpeg:https://ceppa.wp.st-andrews.ac.uk/files/2017/09/800px-PSM_V03_D380_John_Stuart_Mill_2.jpg
ORGANIZER;CN="Ben Sachs":MAILTO:bas7@st-andrews.ac.uk
END:VEVENT
BEGIN:VEVENT
DTSTART;TZID=Europe/London:20200609T150000
DTEND;TZID=Europe/London:20200609T170000
DTSTAMP:20260424T232414
CREATED:20200211T150141Z
LAST-MODIFIED:20200601T111640Z
UID:10000224-1591714800-1591722000@ceppa.wp.st-andrews.ac.uk
SUMMARY:Knox Lecture 2020 - John Haldane (Baylor/University of St Andrews)
DESCRIPTION:CEPPA is pleased to present the 2020 Sir Malcolm Knox Memorial Lecture:\nJohn Haldane FRSA\, FRSE\nJ. Newton Rayzor Sr Distinguished Professor of Philosophy\, Baylor University \nEmeritus Professor of Moral Philosophy\, University of St. Andrews \nSenior Fellow\, CEPPA \nVisiting Professor\, Jubilee Centre for Character and Virtues\, University of Birmingham \n“Philosophy and Public Affairs in Historical Perspective’’\nwith introductory remarks by Professor Sally Mapstone FRSE\, Principal and Vice-Chancellor of the University of St. Andrews\n3:00 p.m. \nLive webcast on Microsoft Teams \nOpen to all; no invitation needed.  Click here to join the webcast. \n  \nAbstract: \nThe expression ‘Philosophy and Public Affairs’ like ‘Applied Philosophy’ was coined in the early 1970s to reflect a growing interest among professional philosophers in engaging practical and policy issues. That interest was the product of developments within philosophy but also of social events\, especially ones relating to personal morality\, civil rights\, foreign policy\, and warfare. CEPPA\, originally titled the ‘Centre for Philosophy and Public Affairs’ was inspired in its conception by initiatives in the US and sought to bring together philosophy and practice. The Knox lecture was an important focus of this\, and having been involved with the Centre from the outset and directed it for most of its history\, and engaged with most of the lecturers including Dworkin\, MacIntyre\, Putnam\, Rawls\, Rorty\, Skinner\, Taylor\, Warnock\, and Williams\, I will begin with a brief review of its aims and some of these contributions noting the contrast between a priori argument and historically situated reflection. This will lead to an analysis of the relation of thought to history involving ‘three degrees of historical involvement’. From that I will turn to look at the rise of casuistry in medieval thought\, giving some illustrations of enduring ‘discoveries’ about norms for action\, and then draw upon a specific concern of Aquinas about the virtues that should govern disputation bringing these to the contemporary concern with contention and disagreement\, both as a matter of theory (giving rise to the idea of ‘public reason’) and practice. These historical reflections pose a question about the nature and future of liberalism. \nTo see Professor Haldane’s recent CEPPA Chat\, click here.
URL:https://ceppa.wp.st-andrews.ac.uk/event/knox-lecture-2020-john-haldane-baylor-university-of-st-andrews/
ATTACH;FMTTYPE=image/jpeg:https://ceppa.wp.st-andrews.ac.uk/files/2016/04/jjh1.jpg
ORGANIZER;CN="Ben Sachs":MAILTO:bas7@st-andrews.ac.uk
END:VEVENT
END:VCALENDAR