BEGIN:VCALENDAR
VERSION:2.0
PRODID:-//CEPPA - ECPv6.15.17.1//NONSGML v1.0//EN
CALSCALE:GREGORIAN
METHOD:PUBLISH
X-WR-CALNAME:CEPPA
X-ORIGINAL-URL:https://ceppa.wp.st-andrews.ac.uk
X-WR-CALDESC:Events for CEPPA
REFRESH-INTERVAL;VALUE=DURATION:PT1H
X-Robots-Tag:noindex
X-PUBLISHED-TTL:PT1H
BEGIN:VTIMEZONE
TZID:Europe/London
BEGIN:DAYLIGHT
TZOFFSETFROM:+0000
TZOFFSETTO:+0100
TZNAME:BST
DTSTART:20220327T010000
END:DAYLIGHT
BEGIN:STANDARD
TZOFFSETFROM:+0100
TZOFFSETTO:+0000
TZNAME:GMT
DTSTART:20221030T010000
END:STANDARD
BEGIN:DAYLIGHT
TZOFFSETFROM:+0000
TZOFFSETTO:+0100
TZNAME:BST
DTSTART:20230326T010000
END:DAYLIGHT
BEGIN:STANDARD
TZOFFSETFROM:+0100
TZOFFSETTO:+0000
TZNAME:GMT
DTSTART:20231029T010000
END:STANDARD
BEGIN:DAYLIGHT
TZOFFSETFROM:+0000
TZOFFSETTO:+0100
TZNAME:BST
DTSTART:20240331T010000
END:DAYLIGHT
BEGIN:STANDARD
TZOFFSETFROM:+0100
TZOFFSETTO:+0000
TZNAME:GMT
DTSTART:20241027T010000
END:STANDARD
END:VTIMEZONE
BEGIN:VEVENT
DTSTART;TZID=Europe/London:20230119T160000
DTEND;TZID=Europe/London:20230119T173000
DTSTAMP:20260421T060521
CREATED:20221114T204445Z
LAST-MODIFIED:20230109T112159Z
UID:10000378-1674144000-1674149400@ceppa.wp.st-andrews.ac.uk
SUMMARY:CEPPA Talk (in person) - Tom Simpson (Oxford)
DESCRIPTION:Location: Edgecliffe G03 \nTitle: ‘Should political discrimination be unlawful?’
URL:https://ceppa.wp.st-andrews.ac.uk/event/ceppa-talk-tom-simpson-oxford/
CATEGORIES:CEPPA Talk
END:VEVENT
BEGIN:VEVENT
DTSTART;TZID=Europe/London:20230126T160000
DTEND;TZID=Europe/London:20230126T173000
DTSTAMP:20260421T060521
CREATED:20221207T203247Z
LAST-MODIFIED:20230112T163428Z
UID:10000380-1674748800-1674754200@ceppa.wp.st-andrews.ac.uk
SUMMARY:CEPPA Talk (online only) – Lea Ypi (LSE)
DESCRIPTION:Location: Teams (online only) \nTitle: Kant the Racist? \nAbstract: This paper examines Kant’s thoughts on race considering his analysis of teleology. It explains how Kant analysed the development of human races in connection to his account of the development of “germs” and “dispositions” in the human species. It further explains how that theory changed with the introduction of Kant’s analysis of reflective judgment. The paper argues that the important shifts in Kant’s analysis of teleology after the third Critique had crucial implications for Kant’s assessment of the development of human races and limit the scope of the charges of racism his theories have recently received.
URL:https://ceppa.wp.st-andrews.ac.uk/event/ceppa-talk-online-only-lea-ypi-lse/
CATEGORIES:CEPPA Talk
ORGANIZER;CN="Johannes Nickl":MAILTO:jmn20@st-andrews.ac.uk
END:VEVENT
END:VCALENDAR