BEGIN:VCALENDAR
VERSION:2.0
PRODID:-//CEPPA - ECPv6.15.17.1//NONSGML v1.0//EN
CALSCALE:GREGORIAN
METHOD:PUBLISH
X-WR-CALNAME:CEPPA
X-ORIGINAL-URL:https://ceppa.wp.st-andrews.ac.uk
X-WR-CALDESC:Events for CEPPA
REFRESH-INTERVAL;VALUE=DURATION:PT1H
X-Robots-Tag:noindex
X-PUBLISHED-TTL:PT1H
BEGIN:VTIMEZONE
TZID:Europe/London
BEGIN:DAYLIGHT
TZOFFSETFROM:+0000
TZOFFSETTO:+0100
TZNAME:BST
DTSTART:20220327T010000
END:DAYLIGHT
BEGIN:STANDARD
TZOFFSETFROM:+0100
TZOFFSETTO:+0000
TZNAME:GMT
DTSTART:20221030T010000
END:STANDARD
BEGIN:DAYLIGHT
TZOFFSETFROM:+0000
TZOFFSETTO:+0100
TZNAME:BST
DTSTART:20230326T010000
END:DAYLIGHT
BEGIN:STANDARD
TZOFFSETFROM:+0100
TZOFFSETTO:+0000
TZNAME:GMT
DTSTART:20231029T010000
END:STANDARD
BEGIN:DAYLIGHT
TZOFFSETFROM:+0000
TZOFFSETTO:+0100
TZNAME:BST
DTSTART:20240331T010000
END:DAYLIGHT
BEGIN:STANDARD
TZOFFSETFROM:+0100
TZOFFSETTO:+0000
TZNAME:GMT
DTSTART:20241027T010000
END:STANDARD
END:VTIMEZONE
BEGIN:VEVENT
DTSTART;TZID=Europe/London:20230914T160000
DTEND;TZID=Europe/London:20230914T173000
DTSTAMP:20260421T072359
CREATED:20230602T084940Z
LAST-MODIFIED:20230907T152733Z
UID:10000394-1694707200-1694712600@ceppa.wp.st-andrews.ac.uk
SUMMARY:CEPPA Talk (online) - Frances Kamm (Rutgers)
DESCRIPTION:Location: Teams (online only) \nTitle: Superogation \nAbstract: This paper considers the relation between supererogation and duties (also here referred to as obligations) from a nonconsequentialist point of view. It first considers whether supererogation may sometimes take precedence over positive and negative duties and how this relates to personal costs (including efforts) required to perform one’s duty. It then considers how acquiescence to having large costs imposed on one (even permissibly) can be supererogatory. Finally\, it considers how what are usually duties can become supererogatory and how what is usually supererogatory can become dutiful. The relation between these topics and the trolley problem and the so-called “all or nothing problem” are examined.
URL:https://ceppa.wp.st-andrews.ac.uk/event/ceppa-talk-online-frances-kamm-rutgers/
LOCATION:Microsoft Teams
CATEGORIES:CEPPA Talk
ORGANIZER;CN="Joel Joseph":MAILTO:jj73@st-andrews.ac.uk
END:VEVENT
END:VCALENDAR