BEGIN:VCALENDAR
VERSION:2.0
PRODID:-//CEPPA - ECPv6.15.17.1//NONSGML v1.0//EN
CALSCALE:GREGORIAN
METHOD:PUBLISH
X-ORIGINAL-URL:https://ceppa.wp.st-andrews.ac.uk
X-WR-CALDESC:Events for CEPPA
REFRESH-INTERVAL;VALUE=DURATION:PT1H
X-Robots-Tag:noindex
X-PUBLISHED-TTL:PT1H
BEGIN:VTIMEZONE
TZID:Europe/London
BEGIN:DAYLIGHT
TZOFFSETFROM:+0000
TZOFFSETTO:+0100
TZNAME:BST
DTSTART:20230326T010000
END:DAYLIGHT
BEGIN:STANDARD
TZOFFSETFROM:+0100
TZOFFSETTO:+0000
TZNAME:GMT
DTSTART:20231029T010000
END:STANDARD
BEGIN:DAYLIGHT
TZOFFSETFROM:+0000
TZOFFSETTO:+0100
TZNAME:BST
DTSTART:20240331T010000
END:DAYLIGHT
BEGIN:STANDARD
TZOFFSETFROM:+0100
TZOFFSETTO:+0000
TZNAME:GMT
DTSTART:20241027T010000
END:STANDARD
BEGIN:DAYLIGHT
TZOFFSETFROM:+0000
TZOFFSETTO:+0100
TZNAME:BST
DTSTART:20250330T010000
END:DAYLIGHT
BEGIN:STANDARD
TZOFFSETFROM:+0100
TZOFFSETTO:+0000
TZNAME:GMT
DTSTART:20251026T010000
END:STANDARD
END:VTIMEZONE
BEGIN:VEVENT
DTSTART;TZID=Europe/London:20241121T143000
DTEND;TZID=Europe/London:20241121T153000
DTSTAMP:20260421T034500
CREATED:20241115T110738Z
LAST-MODIFIED:20241115T111435Z
UID:10000543-1732199400-1732203000@ceppa.wp.st-andrews.ac.uk
SUMMARY:Moral Philosophy Reading Group
DESCRIPTION:This week we will discuss James Sias\, ‘Ethical Intuitionism and the Emotions: Toward an Empirically Adequate Moral Sense Theory’\, available here. \nLocation: Edgecliffe G03
URL:https://ceppa.wp.st-andrews.ac.uk/event/moral-philosophy-reading-group-9-6/
LOCATION:Edgecliffe G03\, The Scores\, St Salvator's Quad\, KY16 9AL
CATEGORIES:Reading Group
END:VEVENT
BEGIN:VEVENT
DTSTART;TZID=Europe/London:20241121T160000
DTEND;TZID=Europe/London:20241121T173000
DTSTAMP:20260421T034500
CREATED:20240912T184522Z
LAST-MODIFIED:20241115T110644Z
UID:10000553-1732204800-1732210200@ceppa.wp.st-andrews.ac.uk
SUMMARY:CEPPA Talk (in-person & online) – James Hutton (Delft)
DESCRIPTION:Title: Emotion-Based Environmental Ethics: The Radical Implications of Taking Wonder Seriously \nAbstract:\nIn environmental ethics\, we find many competing theories of environmental value\, but little discussion of the epistemological grounds for believing one theory rather than another. Building on the framework of moral empiricism (which I’ve developed elsewhere)\, I propose an “Emotion-Based” methodology for environmental ethics. The Emotion-Based methodology requires treating our emotional experiences as defeasible intuitions about value\, wrongness\, etc. – accepting their contents\, unless we have substantive reason not to. I offer some rationales for adopting the Emotion-Based methodology\, exploiting analogies with other domains of knowledge. In the final part of the talk\, I zoom in on the emotion of wonder. Wonder\, I argue\, presents its object as valuable for its own sake. If we take seriously the full range of our experiences of wonder\, we face pressure to adopt a pluralist view of environmental value\, on which some nonsentient beings (e.g. trees) and collective entities (i.e. ecosystems) are valuable for their own sake. Thus\, while moral empiricism is an abstract view about the conditions for moral knowledge\, it turns out to have fairly radical first-order implications for environmental ethics.\nLocation: Edgecliffe G03
URL:https://ceppa.wp.st-andrews.ac.uk/event/ceppa-talk-in-person-online-viviane-fairbank-st-andrews-and-simon-lee-st-andrews/
LOCATION:Edgecliffe 104
CATEGORIES:CEPPA Talk
END:VEVENT
END:VCALENDAR