BEGIN:VCALENDAR
VERSION:2.0
PRODID:-//CEPPA - ECPv6.15.17.1//NONSGML v1.0//EN
CALSCALE:GREGORIAN
METHOD:PUBLISH
X-WR-CALNAME:CEPPA
X-ORIGINAL-URL:https://ceppa.wp.st-andrews.ac.uk
X-WR-CALDESC:Events for CEPPA
REFRESH-INTERVAL;VALUE=DURATION:PT1H
X-Robots-Tag:noindex
X-PUBLISHED-TTL:PT1H
BEGIN:VTIMEZONE
TZID:Europe/London
BEGIN:DAYLIGHT
TZOFFSETFROM:+0000
TZOFFSETTO:+0100
TZNAME:BST
DTSTART:20230326T010000
END:DAYLIGHT
BEGIN:STANDARD
TZOFFSETFROM:+0100
TZOFFSETTO:+0000
TZNAME:GMT
DTSTART:20231029T010000
END:STANDARD
BEGIN:DAYLIGHT
TZOFFSETFROM:+0000
TZOFFSETTO:+0100
TZNAME:BST
DTSTART:20240331T010000
END:DAYLIGHT
BEGIN:STANDARD
TZOFFSETFROM:+0100
TZOFFSETTO:+0000
TZNAME:GMT
DTSTART:20241027T010000
END:STANDARD
BEGIN:DAYLIGHT
TZOFFSETFROM:+0000
TZOFFSETTO:+0100
TZNAME:BST
DTSTART:20250330T010000
END:DAYLIGHT
BEGIN:STANDARD
TZOFFSETFROM:+0100
TZOFFSETTO:+0000
TZNAME:GMT
DTSTART:20251026T010000
END:STANDARD
END:VTIMEZONE
BEGIN:VEVENT
DTSTART;TZID=Europe/London:20241107T143000
DTEND;TZID=Europe/London:20241107T153000
DTSTAMP:20260422T080829
CREATED:20241101T123730Z
LAST-MODIFIED:20241101T123731Z
UID:10000541-1730989800-1730993400@ceppa.wp.st-andrews.ac.uk
SUMMARY:Moral Philosophy Reading Group
DESCRIPTION:This week Karri Heikkinen will lead a discussion on Kirsten Mann\, “Relevance and nonbinary choices” Ethics (2022). \n Location: Edgecliffe G03 \n 
URL:https://ceppa.wp.st-andrews.ac.uk/event/moral-philosophy-reading-group-9-5/
LOCATION:Edgecliffe G03\, The Scores\, St Salvator's Quad\, KY16 9AL
CATEGORIES:Reading Group
END:VEVENT
BEGIN:VEVENT
DTSTART;TZID=Europe/London:20241107T160000
DTEND;TZID=Europe/London:20241107T173000
DTSTAMP:20260422T080829
CREATED:20240912T184333Z
LAST-MODIFIED:20241101T123533Z
UID:10000551-1730995200-1731000600@ceppa.wp.st-andrews.ac.uk
SUMMARY:CEPPA Talk (in-person & online) – Patrick Tomlin (Warwick University)
DESCRIPTION:Title: Killing vs Headaches: Wide Proportionality and Limited Aggregation \nAbstract: Philosophers who have discussed ‘limited aggregation’ have focussed discussion on cases in which we must choose which of two groups to save – for example\, whether we should save one person’s life\, or save some enormous number of people from a mild headache. According to one influential view\, which I call the Relevance View\, we should save one person’s life in this case\, since headaches are irrelevant to death. In this paper\, I want to examine what this implies for a different set of cases – cases in which we might inflict harm on some in order to save others from harm. Translating the relevance view from ‘whom-to-save’ to ‘harming-to-save’ cases\, I show\, is not straightforward. We need to consider up to four different ‘relevance rules’\, and to consider the relationships between them. I will further argue that considering the Relevance View in these cases reveals something important about two fundamental principles of preventive morality —  that the proportionality principle is logically prior to\, and constrains the operation of\, the necessity principle \nLocation: Edgecliffe G03
URL:https://ceppa.wp.st-andrews.ac.uk/event/ceppa-talk-in-person-online-patrick-tomlin-warwick-university/
LOCATION:Edgecliffe 104
CATEGORIES:CEPPA Talk
END:VEVENT
END:VCALENDAR