BEGIN:VCALENDAR
VERSION:2.0
PRODID:-//CEPPA - ECPv6.15.17.1//NONSGML v1.0//EN
CALSCALE:GREGORIAN
METHOD:PUBLISH
X-ORIGINAL-URL:https://ceppa.wp.st-andrews.ac.uk
X-WR-CALDESC:Events for CEPPA
REFRESH-INTERVAL;VALUE=DURATION:PT1H
X-Robots-Tag:noindex
X-PUBLISHED-TTL:PT1H
BEGIN:VTIMEZONE
TZID:Europe/London
BEGIN:DAYLIGHT
TZOFFSETFROM:+0000
TZOFFSETTO:+0100
TZNAME:BST
DTSTART:20230326T010000
END:DAYLIGHT
BEGIN:STANDARD
TZOFFSETFROM:+0100
TZOFFSETTO:+0000
TZNAME:GMT
DTSTART:20231029T010000
END:STANDARD
BEGIN:DAYLIGHT
TZOFFSETFROM:+0000
TZOFFSETTO:+0100
TZNAME:BST
DTSTART:20240331T010000
END:DAYLIGHT
BEGIN:STANDARD
TZOFFSETFROM:+0100
TZOFFSETTO:+0000
TZNAME:GMT
DTSTART:20241027T010000
END:STANDARD
BEGIN:DAYLIGHT
TZOFFSETFROM:+0000
TZOFFSETTO:+0100
TZNAME:BST
DTSTART:20250330T010000
END:DAYLIGHT
BEGIN:STANDARD
TZOFFSETFROM:+0100
TZOFFSETTO:+0000
TZNAME:GMT
DTSTART:20251026T010000
END:STANDARD
END:VTIMEZONE
BEGIN:VEVENT
DTSTART;TZID=Europe/London:20241017T143000
DTEND;TZID=Europe/London:20241017T153000
DTSTAMP:20260421T032359
CREATED:20240912T182305Z
LAST-MODIFIED:20241108T140856Z
UID:10000538-1729175400-1729179000@ceppa.wp.st-andrews.ac.uk
SUMMARY:Moral Philosophy Reading Group
DESCRIPTION: Location: Edgecliffe G03
URL:https://ceppa.wp.st-andrews.ac.uk/event/moral-philosophy-reading-group-9/2024-10-17/
LOCATION:Edgecliffe G03\, The Scores\, St Salvator's Quad\, KY16 9AL
CATEGORIES:Reading Group
END:VEVENT
BEGIN:VEVENT
DTSTART;TZID=Europe/London:20241017T160000
DTEND;TZID=Europe/London:20241017T173000
DTSTAMP:20260421T032359
CREATED:20240912T183831Z
LAST-MODIFIED:20241011T222115Z
UID:10000549-1729180800-1729186200@ceppa.wp.st-andrews.ac.uk
SUMMARY:CEPPA Talk (online) – Valerie Tiberius (Minnesota)
DESCRIPTION:Title: Happy Immoralists and Satisfied Loners: A Pragmatic Perspective on Disagreement about Well-being \nAbstract: Can a morally bad person live well? Can a person without friends achieve well-being? There is long-standing disagreement about the correct answers to these questions. I offer a diagnosis of the debate between those who answer “no” (objectivists about well-being) and those who answer “yes” (subjectivists about well-being). I suggest that the reason people are divided about this question is that the opposing answers represent two different perspectives on well-being that answer to two different sets of practical interests. Given this diagnosis\, the cure is to acknowledge the importance of both perspectives. I discuss different ways of doing this. \nLocation: online & livestreamed from Edgecliffe G03
URL:https://ceppa.wp.st-andrews.ac.uk/event/ceppa-talk-online-valerie-tiberius-minnesota/
LOCATION:Edgecliffe 104
CATEGORIES:CEPPA Talk
END:VEVENT
END:VCALENDAR