BEGIN:VCALENDAR
VERSION:2.0
PRODID:-//CEPPA - ECPv6.15.17.1//NONSGML v1.0//EN
CALSCALE:GREGORIAN
METHOD:PUBLISH
X-WR-CALNAME:CEPPA
X-ORIGINAL-URL:https://ceppa.wp.st-andrews.ac.uk
X-WR-CALDESC:Events for CEPPA
REFRESH-INTERVAL;VALUE=DURATION:PT1H
X-Robots-Tag:noindex
X-PUBLISHED-TTL:PT1H
BEGIN:VTIMEZONE
TZID:Europe/London
BEGIN:DAYLIGHT
TZOFFSETFROM:+0000
TZOFFSETTO:+0100
TZNAME:BST
DTSTART:20230326T010000
END:DAYLIGHT
BEGIN:STANDARD
TZOFFSETFROM:+0100
TZOFFSETTO:+0000
TZNAME:GMT
DTSTART:20231029T010000
END:STANDARD
BEGIN:DAYLIGHT
TZOFFSETFROM:+0000
TZOFFSETTO:+0100
TZNAME:BST
DTSTART:20240331T010000
END:DAYLIGHT
BEGIN:STANDARD
TZOFFSETFROM:+0100
TZOFFSETTO:+0000
TZNAME:GMT
DTSTART:20241027T010000
END:STANDARD
BEGIN:DAYLIGHT
TZOFFSETFROM:+0000
TZOFFSETTO:+0100
TZNAME:BST
DTSTART:20250330T010000
END:DAYLIGHT
BEGIN:STANDARD
TZOFFSETFROM:+0100
TZOFFSETTO:+0000
TZNAME:GMT
DTSTART:20251026T010000
END:STANDARD
END:VTIMEZONE
BEGIN:VEVENT
DTSTART;TZID=Europe/London:20241004T163000
DTEND;TZID=Europe/London:20241004T200000
DTSTAMP:20260420T164923
CREATED:20240912T194538Z
LAST-MODIFIED:20250911T161219Z
UID:10000555-1728059400-1728072000@ceppa.wp.st-andrews.ac.uk
SUMMARY:Film and Philosophy at CEPPA - Princess Mononoke
DESCRIPTION:We are proud to present the Second Session of Film and Philosophy at CEPPA (aka the CEPPA Film Club). This time we will gather from 4:30pm onwards to watch and discuss Studio Ghibli’s absolute classic ‘Princess Mononoke’ (see trailer here). \nThe movie will start SHARP at 5pm. \nPlease see below for some suggested prereads/prewatches\, suggested by Miguel. If you’d like to volunteer to lead a Film Club in the future\, please let our Film Club convenor Miguel (cc’d) know!\n\nVideos/movies:\n\n\nLady Eboshi is wrong by Ian Danskin: https://vimeo.com/357117766\n\n\nHayao Miyazaki – The Essence of Humanity by Lewis Bond: https://www.youtube.com/watch?v=eTq_D5aFy-M\n\n\nThe Kingdom of Dreams and Madness (2013\, dir. Mami Sunada)\n\n\nPapers:\n\n\nAnimated Nature: Aesthetics\, Ethics\, and Empathy in Miyazaki Hayao’s Ecophilosophy by Pamela Gossin (https://www.jstor.org/stable/pdf/10.5749/mech.10.2015.0209.pdf)\n\n\nAnimating child activism: Environmentalism and class politics in Ghibli’s Princess Mononoke (1997) and Fox’s Fern Gully (1992) by Michelle J. Smith & Elizabeth Parsons  (https://www-tandfonline-com.ezproxy.st-andrews.ac.uk/doi/full/10.1080/10304312.2012.630138#d1e255)\n\n\nBooks:\n\n\n185 to 188 of Anime A history by Jonathan Clements.\n\n\nIf you read Spanish: Biblioteca Studio Ghibli: La princesa Mononoke by Laura Montero Plata\n\n\nPodcasts:\n\n\nGhibliotheque – A Podcast About Studio Ghibli ep 5: Princess Mononoke (https://shows.acast.com/ghibliotheque/episodes/princessmononoke-ghibliotheque-5)
URL:https://ceppa.wp.st-andrews.ac.uk/event/film-and-philosophy-club-princess-mononoke/
LOCATION:Edgecliffe 104
CATEGORIES:Film and Philosophy Club
ATTACH;FMTTYPE=image/jpeg:https://ceppa.wp.st-andrews.ac.uk/files/2024/09/Film-and-Philosophy-Posters.jpg
END:VEVENT
END:VCALENDAR